BEGIN:VCALENDAR
VERSION:2.0
PRODID:-//Tukios.com/
BEGIN:VEVENT
UID:a1a397b3-016c-4ac1-b5d7-c723738bd7ec@obits.glennfuneralhome.com
DTSTAMP:20260421T193503Z
DTSTART:20260425T180000Z
DTEND:20260425T181500Z
SUMMARY:Graveside Service
DESCRIPTION:
URL:https://obits.glennfuneralhome.com/tina-brooks
LOCATION: 5050 KY-144  Owensboro KY 42303
GEO:37.8002379;-87.0376679
END:VEVENT
END:VCALENDAR