BEGIN:VCALENDAR
VERSION:2.0
PRODID:-//Tukios.com/
BEGIN:VEVENT
UID:d8b243eb-f00a-4bd9-a21f-0c25ccad0671@obits.glennfuneralhome.com
DTSTAMP:20260421T193918Z
DTSTART:20260425T150000Z
DTEND:20260425T163000Z
SUMMARY:Visitation
DESCRIPTION:
URL:https://obits.glennfuneralhome.com/tina-brooks
LOCATION: 900 Old Hartford Road  Owensboro KY 42303
GEO:37.754029;-87.0988996
END:VEVENT
END:VCALENDAR