BEGIN:VCALENDAR
VERSION:2.0
PRODID:-//Tukios.com/
BEGIN:VEVENT
UID:78a48513-64c4-4ada-a45a-73fbe1052145@obits.glennfuneralhome.com
DTSTAMP:20260421T193712Z
DTSTART:20260424T200000Z
DTEND:20260425T000000Z
SUMMARY:Visitation
DESCRIPTION:
URL:https://obits.glennfuneralhome.com/tina-brooks
LOCATION: 900 Old Hartford Road  Owensboro KY 42303
GEO:37.754029;-87.0988996
END:VEVENT
END:VCALENDAR