BEGIN:VCALENDAR
VERSION:2.0
PRODID:-//Tukios.com/
BEGIN:VEVENT
UID:22d17de5-be75-4231-9909-5ca9c8e50c45@obits.glennfuneralhome.com
DTSTAMP:20260424T011559Z
DTSTART:20260427T210000Z
DTEND:20260427T220000Z
SUMMARY:Time of Remembrance
DESCRIPTION:
URL:https://obits.glennfuneralhome.com/sandra-burden
LOCATION: 900 Old Hartford Road  Owensboro KY 42303
GEO:37.754029;-87.0988996
END:VEVENT
END:VCALENDAR