BEGIN:VCALENDAR
VERSION:2.0
PRODID:-//Tukios.com/
BEGIN:VEVENT
UID:69b60e89-95ce-444a-a007-d4ceaebeae3d@obits.glennfuneralhome.com
DTSTAMP:20260421T040839Z
DTSTART:20260427T150000Z
DTEND:20260427T160000Z
SUMMARY:Funeral Service
DESCRIPTION:
URL:https://obits.glennfuneralhome.com/rita-stiff
LOCATION:Saints Joseph and Paul Catholic Church 609 E 4th St  Owensboro 
	KY 42303
GEO:37.7732912;-87.1048312
END:VEVENT
END:VCALENDAR