BEGIN:VCALENDAR
VERSION:2.0
PRODID:-//Tukios.com/
BEGIN:VEVENT
UID:18ebcf02-6f52-47ed-9967-55624f992457@obits.glennfuneralhome.com
DTSTAMP:20260421T040731Z
DTSTART:20260427T140000Z
DTEND:20260427T150000Z
SUMMARY:Visitation
DESCRIPTION:
URL:https://obits.glennfuneralhome.com/rita-stiff
LOCATION:Saints Joseph and Paul Catholic Church 609 E 4th St  Owensboro 
	KY 42303
GEO:37.7732912;-87.1048312
END:VEVENT
END:VCALENDAR