BEGIN:VCALENDAR
VERSION:2.0
PRODID:-//Tukios.com/
BEGIN:VEVENT
UID:7339f4b3-ca10-4611-9823-c7603d3ce8e0@obits.glennfuneralhome.com
DTSTAMP:20260421T040925Z
DTSTART:20260426T210000Z
DTEND:20260426T220000Z
SUMMARY:Prayer Service
DESCRIPTION:
URL:https://obits.glennfuneralhome.com/rita-stiff
LOCATION:Glenn Funeral Home and Crematory 900 Old Hartford Road  
	Owensboro KY 42303
GEO:37.754029;-87.0988996
END:VEVENT
END:VCALENDAR