BEGIN:VCALENDAR
VERSION:2.0
PRODID:-//Tukios.com/
BEGIN:VEVENT
UID:92c6fde1-4b29-4ace-894a-2471c0b207b8@obits.glennfuneralhome.com
DTSTAMP:20260421T035927Z
DTSTART:20260426T170000Z
DTEND:20260426T210000Z
SUMMARY:Visitation
DESCRIPTION:
URL:https://obits.glennfuneralhome.com/rita-stiff
LOCATION:Glenn Funeral Home and Crematory 900 Old Hartford Road  
	Owensboro KY 42303
GEO:37.754029;-87.0988996
END:VEVENT
END:VCALENDAR