BEGIN:VCALENDAR
VERSION:2.0
PRODID:-//Tukios.com/
BEGIN:VEVENT
UID:d4b42e4a-b683-40a5-8c16-68c2210f575c@obits.glennfuneralhome.com
DTSTAMP:20260423T011001Z
DTSTART:20260425T210000Z
DTEND:20260425T220000Z
SUMMARY:Interment
DESCRIPTION:
URL:https://obits.glennfuneralhome.com/raymond-withrow
LOCATION: 5050 KY-144  Owensboro KY 42303
GEO:37.8002379;-87.0376679
END:VEVENT
END:VCALENDAR