BEGIN:VCALENDAR
VERSION:2.0
PRODID:-//Tukios.com/
BEGIN:VEVENT
UID:5904aa02-367d-4924-ab2f-8e8f84564985@obits.glennfuneralhome.com
DTSTAMP:20260423T010355Z
DTSTART:20260425T200000Z
DTEND:20260425T210000Z
SUMMARY:Funeral Service
DESCRIPTION:
URL:https://obits.glennfuneralhome.com/raymond-withrow
LOCATION:Heritage Baptist Church 3585 Thruston Dermont Rd  Owensboro KY 
	42303
GEO:37.7510287;-87.0398232
END:VEVENT
END:VCALENDAR