BEGIN:VCALENDAR
VERSION:2.0
PRODID:-//Tukios.com/
BEGIN:VEVENT
UID:b87c2922-9957-4fc4-b15c-58f57608eba6@obits.glennfuneralhome.com
DTSTAMP:20260423T010629Z
DTSTART:20260425T180000Z
DTEND:20260425T200000Z
SUMMARY:Visitation
DESCRIPTION:
URL:https://obits.glennfuneralhome.com/raymond-withrow
LOCATION:Heritage Baptist Church 3585 Thruston Dermont Rd  Owensboro KY 
	42303
GEO:37.7510287;-87.0398232
END:VEVENT
END:VCALENDAR