BEGIN:VCALENDAR
VERSION:2.0
PRODID:-//Tukios.com/
BEGIN:VEVENT
UID:f8c1b0e0-0019-45f4-ad18-6450197a6d5f@obits.glennfuneralhome.com
DTSTAMP:20260422T231027Z
DTSTART:20260427T200000Z
DTEND:20260427T203000Z
SUMMARY:Burial
DESCRIPTION:
URL:https://obits.glennfuneralhome.com/michael-wigginton
LOCATION: 607 Buford Rd  Utica KY 42376
GEO:37.5540954;-86.9817642
END:VEVENT
END:VCALENDAR