BEGIN:VCALENDAR
VERSION:2.0
PRODID:-//Tukios.com/
BEGIN:VEVENT
UID:3ce66a58-ad61-4847-ad9b-495cf117b746@obits.glennfuneralhome.com
DTSTAMP:20260422T230838Z
DTSTART:20260427T150000Z
DTEND:20260427T183000Z
SUMMARY:Visitation
DESCRIPTION:
URL:https://obits.glennfuneralhome.com/michael-wigginton
LOCATION:Glenn Funeral Home and Crematory 900 Old Hartford Road  
	Owensboro KY 42303
GEO:37.754029;-87.0988996
END:VEVENT
END:VCALENDAR