BEGIN:VCALENDAR
VERSION:2.0
PRODID:-//Tukios.com/
BEGIN:VEVENT
UID:bf00440b-ecb1-4928-9a7f-496cdd7daedb@obits.glennfuneralhome.com
DTSTAMP:20260421T194048Z
DTSTART:20260425T140000Z
DTEND:20260425T160000Z
SUMMARY:Visitation
DESCRIPTION:
URL:https://obits.glennfuneralhome.com/martha-quisenberry
LOCATION:First Christian Church 700 J R Miller Blvd  Owensboro KY 42303
GEO:37.7691504;-87.1089288
END:VEVENT
END:VCALENDAR