BEGIN:VCALENDAR
VERSION:2.0
PRODID:-//Tukios.com/
BEGIN:VEVENT
UID:85de6d49-1d0f-4097-97fc-7df649aa8ba0@obits.glennfuneralhome.com
DTSTAMP:20260421T193342Z
DTSTART:20260425T160000Z
DTEND:20260425T170000Z
SUMMARY:Memorial Service
DESCRIPTION:
URL:https://obits.glennfuneralhome.com/martha-quisenberry
LOCATION:First Christian Church 700 J R Miller Blvd  Owensboro KY 42303
GEO:37.7691504;-87.1089288
END:VEVENT
END:VCALENDAR