BEGIN:VCALENDAR
VERSION:2.0
PRODID:-//Tukios.com/
BEGIN:VEVENT
UID:a10f1c5d-3c0e-48cd-a554-3d8280ced6dd@obits.glennfuneralhome.com
DTSTAMP:20260422T010938Z
DTSTART:20260423T170000Z
DTEND:20260423T180000Z
SUMMARY:Funeral Service
DESCRIPTION:
URL:https://obits.glennfuneralhome.com/joseph-tin
LOCATION: 900 Old Hartford Road  Owensboro KY 42303
GEO:37.754029;-87.0988996
END:VEVENT
END:VCALENDAR