BEGIN:VCALENDAR
VERSION:2.0
PRODID:-//Tukios.com/
BEGIN:VEVENT
UID:cf99aca5-fefe-4e36-a28a-82dfe6f800ea@obits.glennfuneralhome.com
DTSTAMP:20260425T030853Z
DTSTART:20260428T160000Z
DTEND:20260428T170000Z
SUMMARY:Funeral Service
DESCRIPTION:
URL:https://obits.glennfuneralhome.com/john-kuegel-sr
LOCATION:Pleasant Grove Baptist Church 5664 KY-56  Owensboro KY 42301
GEO:37.7550778;-87.2062626
END:VEVENT
END:VCALENDAR