BEGIN:VCALENDAR
VERSION:2.0
PRODID:-//Tukios.com/
BEGIN:VEVENT
UID:d3b66d9e-e7b2-43be-9df3-80a3c8a83af9@obits.glennfuneralhome.com
DTSTAMP:20260425T030310Z
DTSTART:20260428T140000Z
DTEND:20260428T160000Z
SUMMARY:Visitation
DESCRIPTION:
URL:https://obits.glennfuneralhome.com/john-kuegel-sr
LOCATION:Pleasant Grove Baptist Church 5664 KY-56  Owensboro KY 42301
GEO:37.7550778;-87.2062626
END:VEVENT
END:VCALENDAR