BEGIN:VCALENDAR
VERSION:2.0
PRODID:-//Tukios.com/
BEGIN:VEVENT
UID:fac5e335-e914-40e9-8d4c-5247a726b2b3@obits.glennfuneralhome.com
DTSTAMP:20260425T030633Z
DTSTART:20260427T190000Z
DTEND:20260428T000000Z
SUMMARY:Visitation
DESCRIPTION:
URL:https://obits.glennfuneralhome.com/john-kuegel-sr
LOCATION: 5664 KY-56  Owensboro KY 42301
GEO:37.7550778;-87.2062626
END:VEVENT
END:VCALENDAR