BEGIN:VCALENDAR
VERSION:2.0
PRODID:-//Tukios.com/
BEGIN:VEVENT
UID:137ae442-6c5e-42b7-bb0b-f7ec0e5fc5de@obits.glennfuneralhome.com
DTSTAMP:20260426T042947Z
DTSTART:20260427T223000Z
DTEND:20260427T230000Z
SUMMARY:Prayer Service
DESCRIPTION:
URL:https://obits.glennfuneralhome.com/constance-mccarthy
LOCATION: 900 Old Hartford Road  Owensboro KY 42303
GEO:37.754029;-87.0988996
END:VEVENT
END:VCALENDAR