BEGIN:VCALENDAR
VERSION:2.0
PRODID:-//Tukios.com/
BEGIN:VEVENT
UID:8345bd4a-c732-448d-8db5-5268f6f88905@obits.glennfuneralhome.com
DTSTAMP:20260426T042642Z
DTSTART:20260428T133000Z
DTEND:20260428T143000Z
SUMMARY:Visitation
DESCRIPTION:
URL:https://obits.glennfuneralhome.com/constance-mccarthy
LOCATION:Glenn Funeral Home and Crematory 900 Old Hartford Road  
	Owensboro KY 42303
GEO:37.754029;-87.0988996
END:VEVENT
END:VCALENDAR