BEGIN:VCALENDAR
VERSION:2.0
PRODID:-//Tukios.com/
BEGIN:VEVENT
UID:6f8bdd1c-e8c8-4754-a893-0d1790490ac6@obits.glennfuneralhome.com
DTSTAMP:20260426T042831Z
DTSTART:20260428T150000Z
DTEND:20260428T160000Z
SUMMARY:Funeral Service
DESCRIPTION:
URL:https://obits.glennfuneralhome.com/constance-mccarthy
LOCATION:Our Lady of Lourdes Catholic Church 4029 Frederica St  Owensboro 
	KY 42301
GEO:37.7313295;-87.1190229
END:VEVENT
END:VCALENDAR