BEGIN:VCALENDAR
VERSION:2.0
PRODID:-//Tukios.com/
BEGIN:VEVENT
UID:10950579-31ef-42dc-afb8-87305297039c@obits.glennfuneralhome.com
DTSTAMP:20260426T042056Z
DTSTART:20260427T200000Z
DTEND:20260428T000000Z
SUMMARY:Visitation
DESCRIPTION:
URL:https://obits.glennfuneralhome.com/constance-mccarthy
LOCATION:Glenn Funeral Home and Crematory 900 Old Hartford Road  
	Owensboro KY 42303
GEO:37.754029;-87.0988996
END:VEVENT
END:VCALENDAR