BEGIN:VCALENDAR
VERSION:2.0
PRODID:-//Tukios.com/
BEGIN:VEVENT
UID:fee14348-6a01-4355-b24a-f00df770b450@obits.glennfuneralhome.com
DTSTAMP:20260424T192424Z
DTSTART:20260428T180000Z
DTEND:20260428T190000Z
SUMMARY:Graveside Service
DESCRIPTION:
URL:https://obits.glennfuneralhome.com/alma-hanberry
LOCATION:Rosehill Cemetery Chapel 1321 Rose Hill Drive  Owensboro KY 
	42303
GEO:37.7521046;-87.0957144
END:VEVENT
END:VCALENDAR